BEGIN:VCALENDAR
VERSION:2.0
PRODID:-//GigaCon - konferencje branży IT - ECPv4.6.22.1//NONSGML v1.0//EN
CALSCALE:GREGORIAN
METHOD:PUBLISH
X-WR-CALNAME:GigaCon - konferencje branży IT
X-ORIGINAL-URL:https://oldsite.gigacon.org
X-WR-CALDESC:Events for GigaCon - konferencje branży IT
BEGIN:VEVENT
DTSTART;TZID=Europe/Warsaw:20200730T100000
DTEND;TZID=Europe/Warsaw:20200730T132000
DTSTAMP:20260421T083942
CREATED:20200630T091656Z
LAST-MODIFIED:20210920T164242Z
UID:19798-1596103200-1596115200@oldsite.gigacon.org
SUMMARY:PV GigaCon
DESCRIPTION:[vc_row type=”full_width_background” full_screen_row_position=”middle” scene_position=”center” text_color=”dark” text_align=”left” class=”anchor_menu” overlay_strength=”0.3″ shape_divider_position=”bottom”][vc_column column_padding=”no-extra-padding” column_padding_position=”all” background_color_opacity=”1″ background_hover_color_opacity=”1″ column_shadow=”none” column_border_radius=”none” width=”1/1″ tablet_text_alignment=”default” phone_text_alignment=”default” column_border_width=”none” column_border_style=”solid”][vc_column_text]\nNa skróty:\n\nO konferencji\nAgenda\nKontakt\nFirmy\nPrelegenci\nREJESTRACJA\n\n\n\n\n\n\n\n\n\nUdział w konferencji jest bezpłatny \nWypełnienie wszystkich pól jest wymagane \n\nAdres email (wymagane)\n\n      \n\nImię (wymagane)\n\n      \n\nNazwisko (wymagane)\n\n      \n\nStanowisko (wymagane)\n\n      \n\nNazwa firmy (wymagane)\n\n      \n\nBranża (wymagane)\n\nAdministracja i sektor publicznyBankowość i instytucje finansoweEdukacjaITUbezpieczeniaUsługiTelekomunikacjaTransport/LogistykaHandel hurtowy i detalicznyinna branża \n\nDecyzyjność (wymagane)\n\nDecydujęWspółdecydujęOpiniujęDoradzamNie mam wpływu \n\nMiejscowość (wymagane)\n\n      \n\nKod pocztowy firmy (wymagane)\n\n      \n\nUlica firmy (wymagane)\n\n      \n\nTelefon (wymagane)\n\n      \n\nSkąd dowiedzieli się Państwo o konferencji?\n\n \n\nUwagi\n\n \n\nOświadczam\, że zapoznałem się z polityką prywatności i regulaminem\, i ją akceptuję.\n\nTak \n \n\n	\n		var iFrame_formularz = jQuery("#form-lightbox-formularz iframe").attr("src");\n		jQuery(document).ready(function() {jQuery(".fl_box-formularz").colorbox({\n				inline : true\,\n				href :"#form-lightbox-formularz"\, \n				transition : "1"\,speed : 350\,scrolling : true\,opacity : 0.85\,returnFocus : true\,fastIframe : true\,closeBtn : true\,escKey : true\,\n				onClosed : function(){ jQuery("#form-lightbox-formularz iframe").attr("src"\, iFrame_formularz); } \n			});\n	});\n	\nCALL FOR PAPERS\n\n\n\n\n\n\n\n\n\nImię i nazwisko (wymagane)\n      \nAdres email (wymagane)\n      \nNumer telefonu (wymagane)\n      \nFirma (wymagane)\n      \nStanowisko (wymagane)\n      \nKonspekt\n      \n\nOświadczam\, że zapoznałem się z polityką prywatności i regulaminem\, i ją akceptuję.\n\nTak \nSzanujemy Państwa prywatność. Jeżeli z jakichkolwiek względów nie są Państwo w stanie zaakceptować warunków regulaminu udziału w szkoleniu\, a chcieliby Państwo w nim uczestniczyć\, prosimy o kontakt mailowy: gigacon@gigacon.org \n \n\n	\n		var iFrame_formularz2 = jQuery("#form-lightbox-formularz2 iframe").attr("src");\n		jQuery(document).ready(function() {jQuery(".fl_box-formularz2").colorbox({\n				inline : true\,\n				href :"#form-lightbox-formularz2"\, \n				transition : "1"\,speed : 350\,scrolling : true\,opacity : 0.85\,returnFocus : true\,fastIframe : true\,closeBtn : true\,escKey : true\,\n				onClosed : function(){ jQuery("#form-lightbox-formularz2 iframe").attr("src"\, iFrame_formularz2); } \n			});\n	});\n	\n\n[/vc_column_text][/vc_column][/vc_row][vc_row type=”in_container” full_screen_row_position=”middle” scene_position=”center” text_color=”dark” text_align=”left” class=”event_opis “ id=“okonferencji” overlay_strength=”0.3″ shape_divider_position=”bottom”][vc_column column_padding=”no-extra-padding” column_padding_position=”all” background_color_opacity=”1″ background_hover_color_opacity=”1″ column_shadow=”none” column_border_radius=”none” width=”1/2″ tablet_text_alignment=”default” phone_text_alignment=”default” column_border_width=”none” column_border_style=”solid”][vc_column_text el_class=”anchor”]\nO konferencji\n[/vc_column_text][vc_column_text el_class=”“ id=“okonferencji”]\nO konferencji:\nZapraszamy do wzięcia udziału w konferencji poświęconej zagadnieniom fotowoltaiki. W trakcie tego spotkania porozmawiamy o szansach i wyzwaniach stojących przed firmami zajmującymi się tym tematem. Omówimy także jak energia pozyskiwana ze słońca wykorzystywana jest w Polsce\, a jak w Europie. \nProponowana tematyka:\nbezpieczeństwo instalacji PV\nsposoby zakupu energii z instalacji fotowoltaicznych\nuzgodnieniamia projektów PV\nochrona przeciwpożarowa[/vc_column_text][/vc_column][vc_column column_padding=”no-extra-padding” column_padding_position=”all” background_color_opacity=”1″ background_hover_color_opacity=”1″ column_shadow=”none” column_border_radius=”none” width=”1/2″ tablet_text_alignment=”default” phone_text_alignment=”default” column_border_width=”none” column_border_style=”solid”][vc_column_text el_class=”“ id=“okonferencji”]\nUDZIAŁ W KONFERENCJI JEST BEZPŁATNY!\n\n[/vc_column_text][nectar_btn size=”small” open_new_tab=”true” button_style=”see-through-3d” color_override=”#0000ff” text=”Śledź wydarzenie na Facebooku!” url=”https://www.facebook.com/events/271602983945192/”][/vc_column][/vc_row][vc_row type=”full_width_background” full_screen_row_position=”middle” bg_color=”#f9f9f9″ scene_position=”center” text_color=”dark” text_align=”left” class=”agenda_container asd“ id=“agenda” overlay_strength=”0.3″ shape_divider_position=”bottom”][vc_column column_padding=”no-extra-padding” column_padding_position=”all” background_color_opacity=”1″ background_hover_color_opacity=”1″ column_shadow=”none” column_border_radius=”none” width=”2/3″ tablet_text_alignment=”default” phone_text_alignment=”default” column_border_width=”none” column_border_style=”solid”][vc_column_text el_class=”anchor”]\nAgenda\n[/vc_column_text]AGENDA[vc_column_text][/vc_column_text][vc_column_text el_class=”agenda_druk”]\n\n\n\n 10:00\nRozpoczęcie konferencji\n\n\n10:05 – 10:35\nFotowoltaiczne Case Study z rynku komercyjnego\n– Mariusz Potocki (SolarEdge)\nPlanując przyszłość musimy myśleć o fotowltaice. Właściciele systemów komercyjnych coraz częściej doceniają większa wydajność systemów przez cały okres funkcjonowania instalacji.\nPodczas naszego wykładu dowiecie się Państwo o ograniczeniu ryzyka w długoterminowej inwestycji\, dotyczy to również bezpieczeństwa PPOŻ.\n\n\n10:40 – 11:10\nJak obniżyć koszty instalacji fotowoltaicznej bez utraty jakości i bezpieczeństwa?\n– Paweł Wiktorowicz (Corab)\nWiększość z inwestorów zaczyna myśleć o kosztach instalacji PV dopiero po otrzymaniu pierwszej oferty. Natomiast większość oszczędności można poczynić na etapie planowania\, projektowania czy wyboru komponentów. Dlatego podpowiemy jak mądrze inwestować nie rezygnując z jakości\, wydajności a przede wszystkim bezpieczeństwa.\n\n\n11:15 – 11:45\nKable i przewody w bezpiecznych instalacjach\n– Artur Block (Zakłady Kablowe BITNER)\nOmówimy kwestie:\n– aktualne wymagania prawne – w pigułce\n– znaczenie własności kabli: badanie na nierozprzestrzenianie płomienia – na pojedynczym kablu\, jak i na wiązce\n– zasilania układów priorytetowych – metody montażu\, współczynniki zmniejszające oraz korygujące\n– instalacje fotowoltaiczne – charakterystyka i dobór kabli\n\n\n11:50 – 12:20\nW jaki sposób zastosowanie modułów TIGER PRO może obniżyć LCEO w dużych projektach fotowoltaicznych?\n– Marcin Jędrachowicz (Jinko Solar)\nNowa seria modułów Tiger PRO firmy JinkoSolar zajmuje obecnie pierwsze miejsce w rankingach wydajności. Ich najwyższa moc może osiągnąć nawet 580Wp\, czyli o 40% więcej niż w przypadku innych modułów głównego nurtu i wyznacza nowy historyczny punkt odniesienia w wydajności modułów w dużych elektrowniach. Porozmawiamy o ich technologicznych przewagach.\n\n\n12:25 – 12:35\nOferta fotowoltaiki w ACTION Business Center. Korzyści biznesowe płynące ze współpracy z ACTION.\n– Tomasz Piechocki (ACTION)\nChcemy razem z naszymi partnerami wyznaczać kierunek rozwoju takich technologii i rozwiązań\, które kreują przyszłość. W Action Business Center stawiamy na współpracę z topowymi producentami z segmentu rozwiązań biznesowych. Postaramy się przybliżyć zbiór korzyści płynący ze współpracy z dystrybucją z wartością dodaną (VAD).\n\n\n12.35\nZakończenie konferencji\n\n\n\nOrganizator zastrzega sobie prawo do dokonywania zmian w agendzie.\nOstateczny program wysyłany jest zarejestrowanym Uczestnikom drogą mailową na kilka dni przed wydarzeniem.[/vc_column_text][/vc_column][vc_column column_padding=”no-extra-padding” column_padding_position=”all” background_color_opacity=”1″ background_hover_color_opacity=”1″ column_shadow=”none” column_border_radius=”none” width=”1/3″ tablet_text_alignment=”default” phone_text_alignment=”default” column_border_width=”none” column_border_style=”solid”][vc_column_text]\n\n[/vc_column_text][/vc_column][/vc_row][vc_row type=”full_width_background” full_screen_row_position=”middle” bg_image=”226″ bg_position=”center center” bg_repeat=”no-repeat” scene_position=”center” text_color=”dark” text_align=”left” class=”wydarzenia_pasek“ id=“kontakt” overlay_strength=”0.3″ shape_divider_position=”bottom”][vc_column column_padding=”no-extra-padding” column_padding_position=”all” background_color_opacity=”1″ background_hover_color_opacity=”1″ column_shadow=”none” column_border_radius=”none” width=”2/3″ tablet_text_alignment=”default” phone_text_alignment=”default” column_border_width=”none” column_border_style=”solid”][vc_column_text]\nKONTAKT\n[/vc_column_text][vc_column_text el_class=”anchor”]\nKontakt\n[/vc_column_text][/vc_column][vc_column column_padding=”no-extra-padding” column_padding_position=”all” background_color_opacity=”1″ background_hover_color_opacity=”1″ column_shadow=”none” column_border_radius=”none” width=”1/3″ tablet_text_alignment=”default” phone_text_alignment=”default” column_border_width=”none” column_border_style=”solid”][vc_column_text]\nFORMULARZ REJESTRACJI\n\n\n\n\n\n\n\n\n\n\nUdział w konferencji jest bezpłatny \nWypełnienie wszystkich pól jest wymagane \n\nAdres email (wymagane)\n\n      \n\nImię (wymagane)\n\n      \n\nNazwisko (wymagane)\n\n      \n\nStanowisko (wymagane)\n\n      \n\nNazwa firmy (wymagane)\n\n      \n\nBranża (wymagane)\n\nAdministracja i sektor publicznyBankowość i instytucje finansoweEdukacjaITUbezpieczeniaUsługiTelekomunikacjaTransport/LogistykaHandel hurtowy i detalicznyinna branża \n\nDecyzyjność (wymagane)\n\nDecydujęWspółdecydujęOpiniujęDoradzamNie mam wpływu \n\nMiejscowość (wymagane)\n\n      \n\nKod pocztowy firmy (wymagane)\n\n      \n\nUlica firmy (wymagane)\n\n      \n\nTelefon (wymagane)\n\n      \n\nSkąd dowiedzieli się Państwo o konferencji?\n\n \n\nUwagi\n\n \n\nOświadczam\, że zapoznałem się z polityką prywatności i regulaminem\, i ją akceptuję.\n\nTak \n \n\n	\n		var iFrame_formularz = jQuery("#form-lightbox-formularz iframe").attr("src");\n		jQuery(document).ready(function() {jQuery(".fl_box-formularz").colorbox({\n				inline : true\,\n				href :"#form-lightbox-formularz"\, \n				transition : "1"\,speed : 350\,scrolling : true\,opacity : 0.85\,returnFocus : true\,fastIframe : true\,closeBtn : true\,escKey : true\,\n				onClosed : function(){ jQuery("#form-lightbox-formularz iframe").attr("src"\, iFrame_formularz); } \n			});\n	});\n	\n[/vc_column_text][/vc_column][/vc_row][vc_row type=”in_container” full_screen_row_position=”middle” scene_position=”center” text_color=”dark” text_align=”left” top_padding=”40″ bottom_padding=”40″ class=”event_opis liniadol” overlay_strength=”0.3″ shape_divider_position=”bottom”][vc_column column_padding=”no-extra-padding” column_padding_position=”all” background_color_opacity=”1″ background_hover_color_opacity=”1″ column_shadow=”none” column_border_radius=”none” width=”1/3″ tablet_text_alignment=”default” phone_text_alignment=”default” column_border_width=”none” column_border_style=”solid”][vc_column_text]\nZAPRASZAMY FIRMY\, KTÓRE CHCIAŁYBY ZAPREZENTOWAĆ SWOJE ROZWIĄZANIA PODCZAS KONFERENCJI DO KONTAKTU:\n\nKarina Strojek\nkarina.strojek@gigacon.org\nkom. 600-677-473\n[/vc_column_text][/vc_column][vc_column column_padding=”no-extra-padding” column_padding_position=”all” background_color_opacity=”1″ background_hover_color_opacity=”1″ column_shadow=”none” column_border_radius=”none” width=”2/3″ tablet_text_alignment=”default” phone_text_alignment=”default” column_border_width=”none” column_border_style=”solid”][vc_column_text]\nOSOBA ODPOWIEDZIALNA ZA KONTAKT Z UCZESTNIKAMI\, PATRONATY MEDIALNE ORAZ PROPOZYCJE WYSTĄPIEŃ MERYTORYCZNYCH:\nOliwia Rademacher\noliwia.rademacher@gigacon.org\nkom. 506 981 931 \n  \n  \nCALL FOR PAPERS\n\n\n\n\n\n\n\n\n\n\nImię i nazwisko (wymagane)\n      \nAdres email (wymagane)\n      \nNumer telefonu (wymagane)\n      \nFirma (wymagane)\n      \nStanowisko (wymagane)\n      \nKonspekt\n      \n\nOświadczam\, że zapoznałem się z polityką prywatności i regulaminem\, i ją akceptuję.\n\nTak \nSzanujemy Państwa prywatność. Jeżeli z jakichkolwiek względów nie są Państwo w stanie zaakceptować warunków regulaminu udziału w szkoleniu\, a chcieliby Państwo w nim uczestniczyć\, prosimy o kontakt mailowy: gigacon@gigacon.org \n \n\n	\n		var iFrame_formularz2 = jQuery("#form-lightbox-formularz2 iframe").attr("src");\n		jQuery(document).ready(function() {jQuery(".fl_box-formularz2").colorbox({\n				inline : true\,\n				href :"#form-lightbox-formularz2"\, \n				transition : "1"\,speed : 350\,scrolling : true\,opacity : 0.85\,returnFocus : true\,fastIframe : true\,closeBtn : true\,escKey : true\,\n				onClosed : function(){ jQuery("#form-lightbox-formularz2 iframe").attr("src"\, iFrame_formularz2); } \n			});\n	});\n	\n[/vc_column_text][/vc_column][/vc_row][vc_row type=”in_container” full_screen_row_position=”middle” scene_position=”center” text_color=”dark” text_align=”left” class=”sponsorzy liniadol“ id=“sponsorzy” overlay_strength=”0.3″ shape_divider_position=”bottom”][vc_column column_padding=”no-extra-padding” column_padding_position=”all” background_color_opacity=”1″ background_hover_color_opacity=”1″ column_shadow=”none” column_border_radius=”none” width=”1/1″ tablet_text_alignment=”default” phone_text_alignment=”default” column_border_width=”none” column_border_style=”solid”][vc_row_inner column_margin=”default” text_align=”left”][vc_column_inner column_padding=”no-extra-padding” column_padding_position=”all” background_color_opacity=”1″ background_hover_color_opacity=”1″ column_shadow=”none” column_border_radius=”none” width=”1/1″ column_border_width=”none” column_border_style=”solid”][vc_text_separator title=”SPONSORZY” color=”sky”][vc_column_text]\n\n		\n			#gallery-2 {\n				margin: auto;\n			}\n			#gallery-2 .gallery-item {\n				float: left;\n				margin-top: 10px;\n				text-align: center;\n				width: 50%;\n			}\n			#gallery-2 img {\n				border: 2px solid #cfcfcf;\n			}\n			#gallery-2 .gallery-caption {\n				margin-left: 0;\n			}\n			/* see gallery_shortcode() in wp-includes/media.php */\n		\n		\n			\n				\n			\n			\n				\n			\n		\n\n[/vc_column_text][vc_text_separator title=”PARTNER ” color=”sky”][vc_column_text]\n\n		\n			#gallery-4 {\n				margin: auto;\n			}\n			#gallery-4 .gallery-item {\n				float: left;\n				margin-top: 10px;\n				text-align: center;\n				width: 33%;\n			}\n			#gallery-4 img {\n				border: 2px solid #cfcfcf;\n			}\n			#gallery-4 .gallery-caption {\n				margin-left: 0;\n			}\n			/* see gallery_shortcode() in wp-includes/media.php */\n		\n		\n			\n				\n			\n			\n				\n			\n			\n				\n			\n		\n\n[/vc_column_text][vc_text_separator title=”FIRMY UCZESTNICZĄCE” color=”sky”][vc_column_text]\n\n		\n			#gallery-6 {\n				margin: auto;\n			}\n			#gallery-6 .gallery-item {\n				float: left;\n				margin-top: 10px;\n				text-align: center;\n				width: 100%;\n			}\n			#gallery-6 img {\n				border: 2px solid #cfcfcf;\n			}\n			#gallery-6 .gallery-caption {\n				margin-left: 0;\n			}\n			/* see gallery_shortcode() in wp-includes/media.php */\n		\n		\n			\n				\n			\n		\n\n[/vc_column_text][vc_text_separator title=”WSPÓŁPRACA MARYTORYCZNA” color=”sky”][vc_column_text]\n\n		\n			#gallery-8 {\n				margin: auto;\n			}\n			#gallery-8 .gallery-item {\n				float: left;\n				margin-top: 10px;\n				text-align: center;\n				width: 100%;\n			}\n			#gallery-8 img {\n				border: 2px solid #cfcfcf;\n			}\n			#gallery-8 .gallery-caption {\n				margin-left: 0;\n			}\n			/* see gallery_shortcode() in wp-includes/media.php */\n		\n		\n			\n				\n			\n		\n\n[/vc_column_text][vc_text_separator title=”Patroni medialni” title_align=”separator_align_left” color=”sky”][vc_column_text]\n\n		\n			#gallery-10 {\n				margin: auto;\n			}\n			#gallery-10 .gallery-item {\n				float: left;\n				margin-top: 10px;\n				text-align: center;\n				width: 20%;\n			}\n			#gallery-10 img {\n				border: 2px solid #cfcfcf;\n			}\n			#gallery-10 .gallery-caption {\n				margin-left: 0;\n			}\n			/* see gallery_shortcode() in wp-includes/media.php */\n		\n		\n			\n				\n			\n			\n				\n			\n			\n				\n			\n			\n				\n			\n			\n				\n			\n		\n\n[/vc_column_text][/vc_column_inner][/vc_row_inner][vc_row_inner column_margin=”default” text_align=”left”][vc_column_inner column_padding=”no-extra-padding” column_padding_position=”all” background_color_opacity=”1″ background_hover_color_opacity=”1″ column_shadow=”none” column_border_radius=”none” width=”1/1″ column_border_width=”none” column_border_style=”solid”][vc_column_text el_class=”anchor”]Prelegenci[/vc_column_text][vc_column_text]\nPRELEGENCI\n[/vc_column_text]Mariusz PotockiCommercial Sales Manager w firmie SolarEdgeZwiązany z energią odnawialną od 2005 roku. Z racji wykształcenia w obszarze hydrologii i meteorologii\, początkową działalność skoncentrował na energetyce wodnej.\nWraz z zespołem z IMGW zajmował się analizą zasobów wiatru w Polsce\, wykorzystanych w przyszłym planowaniu lokalizacji pod elektrownie wiatrowe.\nW latach 2007-2015 manager projektów wiatrowych\, rozwijając wdrożenie projektów turbin wiatrowych niemieckiej firmy Enercon wraz z bydgoską spółką.\nOd 2007 roku związany z fotowoltaiką. W latach 2008-2015 początkowo jako Manager ds. Logistyki następnie Dyrektor Produkcji w fabryce Solar-Future-Energy\, jednej z pierwszych polskich fabryk modułów fotowoltaicznych. W latach 2010-2012 zaangażowany w realizację projektów farm fotowoltaicznych w Bułagarii i we Włoszech.\nW 2012-2013 roku rozwijał sieć sprzedaży mikro-instalacji na Sycylii\, na bazie modułów PV wyprodukowanych w Polsce.\nOd 2015 po założeniu własnej firmy doradczej w obszarze OZE\, jako Business Development Manager związany z rynkiem produkcyjnym modułów PV w Polsce jak i za granicą.\nZaangażowany w promocję i rozwój polskich przedsiębiorstw na takich rynkach jak Australia\, Gruzja\, Ukraina oraz Zjednoczone Emiraty Arabskie.\nOd 2019 roku związany z izraelską spółką SolarEdge Technologies na stanowisku Commercial Sales Manager.  Paweł WiktorowiczDyrektor działu wsparcia sprzedaży w firmie Corab Od kliku lat rozwija projekt fotowoltaiki w firmie Corab. Uczestnik\, panelista wielu konferencji i debat branżowych. Doświadczony szkoleniowiec.\nPrywatnie zapalony wędkarz. Artur BlockProduct Manager w Zakładach Kablowych BITNER Absolwent Politechniki Gdańskiej (wydział elektryczny); Grudziądzka Szkoła Wyższa ( wydz. mechaniki budowy maszyn)\, od ponad 30 lat związany z branżą elektryczną. Bogata praktyka zawodowa od elektryka SUR po Product Managera w międzynarodowych koncernach z branży elektrycznej. Aktualnie Product Manager w Zakładach Kablowych BITNER Sp. z o.o. Na co dzień współpracuje z projektantami wszystkich branż elektrycznych\, teletechnicznych. Zaangażowany w projekty szkoleniowe dla chcących poszerzyć swoją wiedzę – można go spotkać na konferencjach oraz seminariach w różnych miejscach na terenie Polski. Marcin JędrachowiczSales Representative Eastern Europe w Jinko SolarPolski przedstawiciel największego na świecie producenta paneli fotowoltaicznych – Jinko Solar. Inżynier budownictwa z pasją do odnawialnych źródeł energii i ambitnych wyzwań zawodowych. Tomasz PiechockiProduct Manager\, ACTION S.A.Product Manager działu Fotowoltaika w ACTION S.A. Specjalizuje się w kształtowaniu portfolio dystrybutora w zakresie paneli solarnych\, inwerterów oraz akcesoriów PV.\nOd 2016 r. związany z importem zaawansowanych rozwiązań technologicznych z krajów azjatyckich. Prywatnie miłośnik lotnictwa. [/vc_column_inner][/vc_row_inner][vc_column_text el_class=”anchor”]\nFirmy\n[/vc_column_text][vc_column_text]\nO WYSTAWCACH\n\n[/vc_column_text]SolarEdge Firma SolarEdge jest globalnym liderem w branży inteligentnych technologii energetycznych. Dzięki światowej klasy możliwościom inżynieryjnym oraz nieustannemu skupianiu się na innowacjach tworzymy inteligentne produkty i rozwiązania w zakresie produkcji energii\, które dodają nam mocy w codziennym życiu i napędzają dalszy rozwój. Corab Corab to największy polski producent systemów mocowań modułów fotowoltaicznych oraz dystrybutor najlepszych rozwiązań z branży PV. Na rynku aktywnie działa od blisko 30 lat\, zdobywając wiedzę i doświadczenie w elektronice oraz produkcji wyrobów ze stali i aluminium. Misją firmy jest produkcja i sprzedaż wyrobów najwyższej jakości spełniających wymogi bezpieczeństwa użytkowania\, które zapewniają satysfakcję naszych Partnerów i Klientów. W ofercie posiada systemy na dach skośny i płaski\, konstrukcje wolnostojące budowane na gruncie czy fundamencie oraz CARPORTY. \nProdukcja odbywa się w nowoczesnym Zakładzie produkcyjnym w Bartoszycach w procesach automatycznych i półautomatycznych. Nad jakością wyrobów czuwa kontrola jakości oraz zewnętrzna jednostka certyfikująca. Potwierdzeniem najwyższych standardów i poszanowania norm europejskich jest certyfikat TÜV Rheinland Polska Monitoring+Testing. \nWielokrotnie firma została nagrodzona za innowacyjne rozwiązania i wysoką jakość swoich produktów. Również w dystrybucji komponentów dużą wagę przywiązują do jakości wykonania oraz rzetelności i stabilnej pozycji producenta. \nOd blisko 2 lat firma Corab wraz z najlepszymi firmami instalacyjnymi tworzą sieć partnerską Corab Partner. Jest to porozumienie współpracy i wzajemnego wsparcia na wielu płaszczyznach\, m.in. handlowej\, technicznej\, marketingowej. Do sieci mogą przystąpić jedynie podmioty stabilne finansowo\, posiadające doświadczenie w branży. Zakłady Kablowe BITNER Zakłady Kablowe BITNER Sp. z o.o. to polski producent kabli i przewodów działający na rynku od 1996r. Różnorodny asortyment to największy atut firmy. Produkujemy ponad 30 000 wyrobów katalogowych\, zebranych w kilkanaście grup asortymentowych. Zakres produkcji obejmuje większość obszarów przemysłu\, w których wykorzystywane są kable\, począwszy od telekomunikacyjnych\, a skończywszy na zasilających średniego napięcia oraz do specjalnych zastosowań. Tworzymy rozwiązania dla aplikacji typowych i specjalistycznych wykorzystywanych na całym świecie. Wysoka jakość naszych produktów została potwierdzona licznymi referencjami i nagrodami\, co przekłada się na stale rosnące grono odbiorców. Ważnym elementem naszej oferty są kable przeznaczone do instalacji fotowoltaicznych BiT 1000®solar\, używane do połączeń pomiędzy modułami fotowoltaicznymi\, ciągami modułów\, a także jako przewody łączące zespoły modułów z falownikiem. \nZakres produkcyjny Zakładów Kablowych BITNER obejmuje kable:\nsygnalizacyjne i sterownicze\, bezhalogenowe i ognioodporne\, do przemienników częstotliwości\, energetyczne\, telekomunikacyjne i teleinformatyczne\, do instalacji systemów alarmowych i przeciwpożarowych\, współosiowe wielkiej częstotliwości\, do obwodów iskrobezpiecznych\, audio\, do pracy w trudnych warunkach\, światłowodowe\, górnicze\, nietypowe. FlowDog FlowDog to przełomowa metoda organizacji pracy w firmie. Łączy w sobie lata doświadczenia z zakresu doradztwa biznesowego z najnowszymi technologiami komputerowymi. Umożliwia usprawnienie i automatyzację w procesach. Pomaga Klientom osiągnąć nowy\, lepszy poziom wydajności i produktywności w codziennych zadaniach. FlowDog to odpowiedź na każde nawet najbardziej wymagające pomysły.\nGrupa Spółek LoVo jest obecna na polskim i międzynarodowym rynku od ponad 15 lat\, gdzie z powodzeniem realizuje kolejne projekty. Nieustanny rozwój przyczynił się do bycia Srebrnym Partnerem Microsoft oraz zdobywcą licznych nagród i certyfikatów m.in.: Gazela Biznesu\, Certyfikat Najwyższej Jakości Quality International\, Certyfikat Rzetelności\, Certyfikat Wiarygodności Biznesowej i wiele innych. W ramach działań biznesowych FlowDog zapewnia dedykowane rozwiązanie dla przedsiębiorstw z branży odnawialnych źródeł energii.\nRozwój to klucz do sukcesu\, a LoVo to siła i doświadczenie. Wyprzedzając trendy i reagując na potrzeby zmieniającej się gospodarki ponad 5 lat temu powstał FlowDog - innowacyjny systemem do zarządzania procesami w firmie. ACTION ACTION S.A. dystrybutor z prawie 30-letnim doświadczeniem\, na 7. miejscu rankingu Computerworld TOP200 największych firm informatycznych działających w Polsce w 2019 r. W naszym dziale dystrybucji z wartością dodaną ( Action Business Center) prócz produktów topowych producentów fotowoltaiki\, mamy też sprzęt z zakresu inteligentnego domu\, monitoringu wizyjnego\, instalacji sieciowych przewodowych i bezprzewodowych\, zasilania awaryjnego i wiele innych. Dodatkowo oferujemy: ceny do negocjacji\, elastyczne warunki dostawy (do 24h w Polsce\, 48h zagranicą)\, atrakcyjne rabaty i linie kredytowe\, gwarancję i serwis\, bogatą ofertę szkoleń i webinarów.\nWięcej na: https://business-center.action.pl/ JinKo SolarJob PositionJinkoSolar (NYSE: JKS) to jeden z największych i najbardziej innowacyjnych producentów modułów słonecznych na świecie. JinkoSolar zbudował pionowo zintegrowany łańcuch produkcji\, ze zintegrowaną roczną wydajnością 17\,5 GW dla płytek mono\, 10\,6 GW dla ogniw słonecznych i 16 GW dla modułów słonecznych na dzień 31 marca 2020 r. JinkoSolar zatrudnia ponad 15 000 pracowników\, posiada 7 fabryk na całym świecie i 14 zagranicznych filii. [/vc_column][/vc_row]\n
URL:https://oldsite.gigacon.org/event/pv-gigacon/
LOCATION:ONLINE\, Polska
ATTACH;FMTTYPE=image/png:https://oldsite.gigacon.org/wp-content/uploads/2020/06/2.png
END:VEVENT
END:VCALENDAR