BEGIN:VCALENDAR
VERSION:2.0
PRODID:-//GigaCon - konferencje branży IT - ECPv4.6.22.1//NONSGML v1.0//EN
CALSCALE:GREGORIAN
METHOD:PUBLISH
X-WR-CALNAME:GigaCon - konferencje branży IT
X-ORIGINAL-URL:https://oldsite.gigacon.org
X-WR-CALDESC:Events for GigaCon - konferencje branży IT
BEGIN:VEVENT
DTSTART;TZID=Europe/Warsaw:20200817T100000
DTEND;TZID=Europe/Warsaw:20200817T130000
DTSTAMP:20260419T090325
CREATED:20200630T111523Z
LAST-MODIFIED:20200709T093930Z
UID:19819-1597658400-1597669200@oldsite.gigacon.org
SUMMARY:Cyberbezpieczeństwo dla pracowników biurowych
DESCRIPTION:[vc_row type=”full_width_background” full_screen_row_position=”middle” scene_position=”center” text_color=”dark” text_align=”left” class=”anchor_menu” overlay_strength=”0.3″ shape_divider_position=”bottom”][vc_column column_padding=”no-extra-padding” column_padding_position=”all” background_color_opacity=”1″ background_hover_color_opacity=”1″ column_shadow=”none” column_border_radius=”none” width=”1/1″ tablet_text_alignment=”default” phone_text_alignment=”default” column_border_width=”none” column_border_style=”solid”][vc_column_text]\nNa skróty:\n\nO szkoleniu\nAgenda\nKontakt\nProwadzący\nREJESTRACJA\n\n\n\n\n\n\n\n\n\nFormularz rejestracji: CYBERBEZPIECZEŃSTWO DLA PRACOWNIKÓW BIUROWYCH\nWyślij formularz rejestracji -->> dostaniesz potwierdzenie zapisu na szkolenie. Każde potwierdzenie wysyłamy ręcznie 🙂 \nStandardowo otrzymasz fakturę proforma.\nWysłanie formularza rejestracji zobowiązuje do zapłaty oraz uczestniczenia w szkoleniu.\nProcedura rezygnacji/odwołania jest opisana w Regulaminie \nCzęść pól jest wymagana \n\nAdres email (wymagane)\n\n      \n* wpisz adres e-mail uczestnika szkolenia\, jeśli chcesz zgłosić kilku uczestników\, napisz na konferencje@gigacon.org \n\nImię (wymagane)\n\n      \n\nNazwisko (wymagane)\n\n      \n\nTelefon (wymagane)\n\n      \nDane do faktury: \n\nNazwa firmy\n\nZgłaszając się jako osoba prywatna zostaw pole puste.\n      \n\nNIP firmy\n\nZgłaszając się jako osoba prywatna zostaw pole puste.\n      \n\nMiejscowość (wymagane)\n\n      \n\nKod pocztowy (wymagane)\n\n      \n\nUlica (wymagane)\n\n      \n--------------------- \n\nZamawiam CYBERBEZPIECZEŃSTWO DLA PRACOWNIKÓW BIUROWYCH (wymagane)\n\nModuł 1 - cena 399 PLN +23% VATModuł 1 i 2 - cena promocyjna: 1250 PLN + VATModuł 1 i 2 - cena regularna: 1499 PLN + VAT \n\nUwagi/pytania/dodatkowe informacje\n\n \n\nOświadczam\, że zapoznałem się z polityką prywatności i regulaminem\, i ją akceptuję.\n\nTak \nSzanujemy Państwa prywatność. Jeżeli z jakichkolwiek względów nie są Państwo w stanie zaakceptować warunków regulaminu udziału w szkoleniu\, a chcieliby Państwo w nim uczestniczyć prosimy o kontakt mailowy: konferecje@gigacon.org \n \nWszystkie rejestracje potwierdzamy ręcznie.\nJeśli masz pytania lub masz wątpliwość czy Twoje zgłoszenie zostało zarejestrowane\, napisz: konferencje@gigacon.org \n\n	\n		var iFrame_formularz = jQuery("#form-lightbox-formularz iframe").attr("src");\n		jQuery(document).ready(function() {jQuery(".fl_box-formularz").colorbox({\n				inline : true\,\n				href :"#form-lightbox-formularz"\, \n				transition : "1"\,speed : 350\,scrolling : true\,opacity : 0.85\,returnFocus : true\,fastIframe : true\,closeBtn : true\,escKey : true\,\n				onClosed : function(){ jQuery("#form-lightbox-formularz iframe").attr("src"\, iFrame_formularz); } \n			});\n	});\n	\n\n[/vc_column_text][/vc_column][/vc_row][vc_row type=”in_container” full_screen_row_position=”middle” scene_position=”center” text_color=”dark” text_align=”left” overlay_strength=”0.3″ shape_divider_position=”bottom”][vc_column column_padding=”no-extra-padding” column_padding_position=”all” background_color_opacity=”1″ background_hover_color_opacity=”1″ column_shadow=”none” column_border_radius=”none” width=”1/1″ tablet_text_alignment=”default” phone_text_alignment=”default” column_border_width=”none” column_border_style=”solid”][vc_column_text]\nZamawiam szkolenie →\n\n\n\n\n\n\n\n\n\nFormularz rejestracji: CYBERBEZPIECZEŃSTWO DLA PRACOWNIKÓW BIUROWYCH\nWyślij formularz rejestracji -->> dostaniesz potwierdzenie zapisu na szkolenie. Każde potwierdzenie wysyłamy ręcznie 🙂 \nStandardowo otrzymasz fakturę proforma.\nWysłanie formularza rejestracji zobowiązuje do zapłaty oraz uczestniczenia w szkoleniu.\nProcedura rezygnacji/odwołania jest opisana w Regulaminie \nCzęść pól jest wymagana \n\nAdres email (wymagane)\n\n      \n* wpisz adres e-mail uczestnika szkolenia\, jeśli chcesz zgłosić kilku uczestników\, napisz na konferencje@gigacon.org \n\nImię (wymagane)\n\n      \n\nNazwisko (wymagane)\n\n      \n\nTelefon (wymagane)\n\n      \nDane do faktury: \n\nNazwa firmy\n\nZgłaszając się jako osoba prywatna zostaw pole puste.\n      \n\nNIP firmy\n\nZgłaszając się jako osoba prywatna zostaw pole puste.\n      \n\nMiejscowość (wymagane)\n\n      \n\nKod pocztowy (wymagane)\n\n      \n\nUlica (wymagane)\n\n      \n--------------------- \n\nZamawiam CYBERBEZPIECZEŃSTWO DLA PRACOWNIKÓW BIUROWYCH (wymagane)\n\nModuł 1 - cena 399 PLN +23% VATModuł 1 i 2 - cena promocyjna: 1250 PLN + VATModuł 1 i 2 - cena regularna: 1499 PLN + VAT \n\nUwagi/pytania/dodatkowe informacje\n\n \n\nOświadczam\, że zapoznałem się z polityką prywatności i regulaminem\, i ją akceptuję.\n\nTak \nSzanujemy Państwa prywatność. Jeżeli z jakichkolwiek względów nie są Państwo w stanie zaakceptować warunków regulaminu udziału w szkoleniu\, a chcieliby Państwo w nim uczestniczyć prosimy o kontakt mailowy: konferecje@gigacon.org \n \nWszystkie rejestracje potwierdzamy ręcznie.\nJeśli masz pytania lub masz wątpliwość czy Twoje zgłoszenie zostało zarejestrowane\, napisz: konferencje@gigacon.org \n\n	\n		var iFrame_formularz = jQuery("#form-lightbox-formularz iframe").attr("src");\n		jQuery(document).ready(function() {jQuery(".fl_box-formularz").colorbox({\n				inline : true\,\n				href :"#form-lightbox-formularz"\, \n				transition : "1"\,speed : 350\,scrolling : true\,opacity : 0.85\,returnFocus : true\,fastIframe : true\,closeBtn : true\,escKey : true\,\n				onClosed : function(){ jQuery("#form-lightbox-formularz iframe").attr("src"\, iFrame_formularz); } \n			});\n	});\n	 \n[/vc_column_text][/vc_column][/vc_row][vc_row type=”in_container” full_screen_row_position=”middle” scene_position=”center” text_color=”dark” text_align=”left” overlay_strength=”0.3″ shape_divider_position=”bottom”][vc_column column_padding=”no-extra-padding” column_padding_position=”all” background_color_opacity=”1″ background_hover_color_opacity=”1″ column_shadow=”none” column_border_radius=”none” width=”1/1″ tablet_text_alignment=”default” phone_text_alignment=”default” column_border_width=”none” column_border_style=”solid”][vc_column_text]\nCel szkolenia: \n \nZwiększyć świadomość pracowników w kwestiach dotyczących bezpieczeństwa \n[/vc_column_text][/vc_column][/vc_row][vc_row type=”in_container” full_screen_row_position=”middle” scene_position=”center” text_color=”dark” text_align=”left” overlay_strength=”0.3″ shape_divider_position=”bottom”][vc_column column_padding=”no-extra-padding” column_padding_position=”all” background_color_opacity=”1″ background_hover_color_opacity=”1″ column_shadow=”none” column_border_radius=”none” width=”1/6″ tablet_text_alignment=”default” phone_text_alignment=”default” column_border_width=”none” column_border_style=”solid”][/vc_column][vc_column column_padding=”no-extra-padding” column_padding_position=”all” background_color_opacity=”1″ background_hover_color_opacity=”1″ column_shadow=”none” column_border_radius=”none” width=”2/3″ tablet_text_alignment=”default” phone_text_alignment=”default” column_border_width=”none” column_border_style=”solid”][vc_column_text]\nO szkoleniu: \n \nSzkolenie podnoszące bezpieczeństwo i świadomość wszystkich osób pracujących na co dzień z komputerem. Otrzymasz wiedzę dotyczącą najnowszych technik ataków komputerowych (phishing\, ransomware\, malware\, itp.). Zostaną również omówione przykłady ataków\, które faktycznie miały miejsce w rzeczywistości. Otrzymasz informacje o zagrożeniach oraz dobrych praktykach związanych z pracą przy komputerze\, a także praktyczne wskazówki dotyczące bezpiecznej konfiguracji urządzeń korzystających z Internetu (także tych prywatnych). \n  \n\nWymagania: \n\n \nSzkolenie jest prowadzone na poziomie podstawowym i do uczestnictwa nie są wymagane żadne specjalne kwalifikacje. \n  \n\nDla kogo przeznaczone jest to szkolenie? \n \nKażda osoba\, która chce podnieść poziom swojego bezpieczeństwa cybernetycznego i zwiększyć swoją wiedzę w tym zakresie.  \nModuł zawiera podstawową wiedzę na temat zasad bezpieczeństwa w „zdalnym świecie”. \nUczestnicy mogą wziąć udział w module podstawowym lub rozszerzyć i uzupełnić wiedzę korzystając z modułu 2\, w którym szczegółowo omawiamy poszczególne techniki. \nW trakcie 16 godzin szkolenia zapewniamy: \n \n\ncertyfikat potwierdzający uczestnictwo\,\nmateriały programowe\,\nnotatnik i długopis.\n\nCena: \n \nModuł 1 (17 sierpnia): 3 godziny 399 zł + VAT\nModuł 1+2 (18-19 sierpnia):   1499 zł + VAT | CENA PROMOCYJNA do 15 lipca: 1250 zł + VAT\n[/vc_column_text][vc_column_text]\nZamawiam szkolenie →\n\n\n\n\n\n\n\n\n\nFormularz rejestracji: CYBERBEZPIECZEŃSTWO DLA PRACOWNIKÓW BIUROWYCH\nWyślij formularz rejestracji -->> dostaniesz potwierdzenie zapisu na szkolenie. Każde potwierdzenie wysyłamy ręcznie 🙂 \nStandardowo otrzymasz fakturę proforma.\nWysłanie formularza rejestracji zobowiązuje do zapłaty oraz uczestniczenia w szkoleniu.\nProcedura rezygnacji/odwołania jest opisana w Regulaminie \nCzęść pól jest wymagana \n\nAdres email (wymagane)\n\n      \n* wpisz adres e-mail uczestnika szkolenia\, jeśli chcesz zgłosić kilku uczestników\, napisz na konferencje@gigacon.org \n\nImię (wymagane)\n\n      \n\nNazwisko (wymagane)\n\n      \n\nTelefon (wymagane)\n\n      \nDane do faktury: \n\nNazwa firmy\n\nZgłaszając się jako osoba prywatna zostaw pole puste.\n      \n\nNIP firmy\n\nZgłaszając się jako osoba prywatna zostaw pole puste.\n      \n\nMiejscowość (wymagane)\n\n      \n\nKod pocztowy (wymagane)\n\n      \n\nUlica (wymagane)\n\n      \n--------------------- \n\nZamawiam CYBERBEZPIECZEŃSTWO DLA PRACOWNIKÓW BIUROWYCH (wymagane)\n\nModuł 1 - cena 399 PLN +23% VATModuł 1 i 2 - cena promocyjna: 1250 PLN + VATModuł 1 i 2 - cena regularna: 1499 PLN + VAT \n\nUwagi/pytania/dodatkowe informacje\n\n \n\nOświadczam\, że zapoznałem się z polityką prywatności i regulaminem\, i ją akceptuję.\n\nTak \nSzanujemy Państwa prywatność. Jeżeli z jakichkolwiek względów nie są Państwo w stanie zaakceptować warunków regulaminu udziału w szkoleniu\, a chcieliby Państwo w nim uczestniczyć prosimy o kontakt mailowy: konferecje@gigacon.org \n \nWszystkie rejestracje potwierdzamy ręcznie.\nJeśli masz pytania lub masz wątpliwość czy Twoje zgłoszenie zostało zarejestrowane\, napisz: konferencje@gigacon.org \n\n	\n		var iFrame_formularz = jQuery("#form-lightbox-formularz iframe").attr("src");\n		jQuery(document).ready(function() {jQuery(".fl_box-formularz").colorbox({\n				inline : true\,\n				href :"#form-lightbox-formularz"\, \n				transition : "1"\,speed : 350\,scrolling : true\,opacity : 0.85\,returnFocus : true\,fastIframe : true\,closeBtn : true\,escKey : true\,\n				onClosed : function(){ jQuery("#form-lightbox-formularz iframe").attr("src"\, iFrame_formularz); } \n			});\n	});\n	 \n[/vc_column_text][/vc_column][vc_column column_padding=”no-extra-padding” column_padding_position=”all” background_color_opacity=”1″ background_hover_color_opacity=”1″ column_shadow=”none” column_border_radius=”none” width=”1/6″ tablet_text_alignment=”default” phone_text_alignment=”default” column_border_width=”none” column_border_style=”solid”][/vc_column][/vc_row][vc_row type=”full_width_background” full_screen_row_position=”middle” bg_color=”#f9f9f9″ scene_position=”center” text_color=”dark” text_align=”left” class=”agenda_container asd“ id=“agenda” overlay_strength=”0.3″ shape_divider_position=”bottom”][vc_column column_padding=”no-extra-padding” column_padding_position=”all” background_color_opacity=”1″ background_hover_color_opacity=”1″ column_shadow=”none” column_border_radius=”none” width=”1/4″ tablet_text_alignment=”default” phone_text_alignment=”default” column_border_width=”none” column_border_style=”solid”][/vc_column][vc_column column_padding=”no-extra-padding” column_padding_position=”all” background_color_opacity=”1″ background_hover_color_opacity=”1″ column_shadow=”none” column_border_radius=”none” width=”1/2″ tablet_text_alignment=”default” phone_text_alignment=”default” column_border_width=”none” column_border_style=”solid”][vc_column_text]\nAgenda\n[/vc_column_text]AGENDA[vc_column_text]Moduł 1:\n \n\nWstęp do umysłu cyberprzestępcy\n– Profil i motywacja atakującego\n– Główne cele ataków komputerowych\n– Techniki wykorzystywane przez atakujących do zbierania informacji o ofierze\n– Rozsądne korzystanie i odpowiednia konfiguracja Portali Społecznościowych\n– Prywatność w Internecie\n\nSocjotechnika\n– Techniki prewencyjne\n– Prezentacja prawdziwych ataków phishingowych\n– Wykrywanie próby ataku – na co zwracać uwagę?\n– Sposób postępowania po wykryciu ataku\n\nZłośliwe oprogramowanie\n– Omówienie najpopularniejszych metod ataków z użyciem złośliwego oprogramowania\n– Na co zwracać uwagę podczas użytkowania komputera\, aby nie paść ofiarą złośliwego oprogramowania\n– Złe załączniki w mailach\, oraz pliki w Internecie – jak działają i jak wykryć je zawczasu\n– Ransomware – jak działa i jak sobie z nim radzić?\n– Przeprowadzenie ataku z użyciem złośliwego oprogramowania z punktu widzenia atakującego i ofiary\n\nBezpieczne korzystanie z WiFi\n– Zagrożenia związane z otwartymi sieciami WiFi\n– Korzystanie z usługi VPN\n– OpenDNS jako proste rozwiązanie które podniesie bezpieczeństwo twoje i twojej rodziny\n\nDobre praktyki w pracy zdalnej\n– Ekrany prywatyzujące\n– Korzystanie z internetu w podróży\n\nPłatności internetowe i zbliżeniowe\n– Dobre praktyki\n\nPozostałe urządzenia podpięte do Internetu\n– Routery – ich prawidłowa konfiguracja i bezpieczne użytkowanie\n– Kamerki internetowe\n– Rozwiązania typu Smart\n– Internet jest wszędzie – Telewizory\, telefony\, zabawki… – wiesz jak je zabezpieczyć?\n\nPolityka haseł\n– Polityka haseł – dlaczego musi być aż tak restrykcyjna\, oraz sprytne sposoby co zrobić aby nie było to dłużej uciążliwe\n– Korzystanie z managera haseł\n– Pytania pomocnicze – jak dobrać je we właściwy sposób\n– Uwierzytelnianie wieloskładnikowe – nie jest wcale takie straszne!\n\nBezpieczne korzystanie ze smartphona\n– Zagrożenia czyhające na użytkowników urządzeń mobilnych\n– Prawidłowa konfiguracja smartphona pod kątem bezpieczeństwa\n– Dlaczego regularne aktualizacje są tak bardzo istotne\n– Dobre praktyki\n\nOgólne porady dotyczące cyberbezpieczeństwa\n– Dane które (nie)świadomie umieszczasz na swój temat w Internecie\n– Prawidłowe usuwanie danych z komputera i nośników pamięci\n– Bezpieczne przesyłanie danych do kontrahentów\n– Bezpieczne używanie skrzynki pocztowej\n– Komunikatory Internetowe\n– Antywirusy – jak działają\, oraz jak ich prawidłowo używać\n\nModuł 2:\n \nDzień 1 \n– Don’t get phished – 1h o phishingu\, technikach ataku\, na co zwracać uwagę  \n\n– How secure is your password – 1h o hasłach\, managerach haseł\, tworzeniu bezpiecznych haseł\, dlaczego dochodzi do wycieków haseł (i co się wtedy dzieje) \n\n– Know your enemy – 1h o atakujących\, jak działają\, czym się kierują\, jakie typy ataków stosują\, metody zabezpieczeń \nDzień 2 \n\n– Privacy Ninja Cloud Edition – 1h o tym jak w bezpieczny sposób korzystać z aplikacji chmurowych (gdrive\, gmail\, outlook\, facebook\, linkedin itp.) – jak je konfigurować itp. \n\n– Share information securely – 1h o tym w jaki sposób przesyłać informacje (pliki\, komunikacja) za pośrednictwem Internetu (maile\, udostępnianie\, załączniki\, prywatne połączenia telefoniczne itp.) \n\n– Work securely from home – 1h o tym jak w bezpieczny sposób pracować zdalnie (videokonferencje\, narzędzia\, praca w ruchu\, korzystanie z sieci wifi\, vpn\, itp.) \n\n– What’s Darknet – 1h o tym czym jest darknet\, jak działa\, kryptowaluty\, jak wykorzystać go w celu podniesienia prywatności (jakie techniki stosują cyberprzestępcy aby podnieść swoje bezpieczeństwo \n  \n [/vc_column_text][/vc_column][vc_column column_padding=”no-extra-padding” column_padding_position=”all” background_color_opacity=”1″ background_hover_color_opacity=”1″ column_shadow=”none” column_border_radius=”none” width=”1/4″ tablet_text_alignment=”default” phone_text_alignment=”default” column_border_width=”none” column_border_style=”solid”][/vc_column][/vc_row][vc_row type=”in_container” full_screen_row_position=”middle” scene_position=”center” text_color=”dark” text_align=”left” overlay_strength=”0.3″ shape_divider_position=”bottom”][vc_column column_padding=”no-extra-padding” column_padding_position=”all” background_color_opacity=”1″ background_hover_color_opacity=”1″ column_shadow=”none” column_border_radius=”none” width=”1/1″ tablet_text_alignment=”default” phone_text_alignment=”default” column_border_width=”none” column_border_style=”solid”][vc_column_text el_class=”anchor”]Prelegenci[/vc_column_text][vc_column_text]\nTRENER\n \nAnna Pieczątkowska – Trenerka\, IT Service Manager w ABB\, współzałożycielka Stowarzyszenia Młodzieżowych Inicjatyw Twórczych „CREATOR”. \nObecnie zarządza serwisem wdrażania narzędzi do komunikacji cyfrowej oraz wspiera projekty mające na celu połączenie technik gamifikacji i pozaformalnej edukacji w obszarze cyber-bezpieczeństwa. \nDziałaczka społeczna zaangażowana w projekty mające na celu podnoszenie kompetencji przedsiębiorczych młodych ludzi. \nZ zamiłowania podróżniczka.[/vc_column_text][/vc_column][/vc_row][vc_row type=”in_container” full_screen_row_position=”middle” scene_position=”center” text_color=”dark” text_align=”left” overlay_strength=”0.3″ shape_divider_position=”bottom”][vc_column column_padding=”no-extra-padding” column_padding_position=”all” background_color_opacity=”1″ background_hover_color_opacity=”1″ column_shadow=”none” column_border_radius=”none” width=”1/1″ tablet_text_alignment=”default” phone_text_alignment=”default” column_border_width=”none” column_border_style=”solid”][vc_column_text]\nKontakt\n[/vc_column_text][/vc_column][/vc_row][vc_row type=”in_container” full_screen_row_position=”middle” scene_position=”center” text_color=”dark” text_align=”left” top_padding=”40″ bottom_padding=”40″ class=”event_opis liniadol” overlay_strength=”0.3″ shape_divider_position=”bottom”][vc_column column_padding=”no-extra-padding” column_padding_position=”all” background_color_opacity=”1″ background_hover_color_opacity=”1″ column_shadow=”none” column_border_radius=”none” width=”1/1″ tablet_text_alignment=”default” phone_text_alignment=”default” column_border_width=”none” column_border_style=”solid”]Dział SzkoleńChcesz zorganizować szkolenie zamknięte w swojej firmie? Napisz!e-mail: szkolenia@gigacon.org\ntel. 602 398 959 [/vc_column][/vc_row][vc_row type=”in_container” full_screen_row_position=”middle” scene_position=”center” text_color=”dark” text_align=”left” overlay_strength=”0.3″ shape_divider_position=”bottom”][vc_column column_padding=”no-extra-padding” column_padding_position=”all” background_color_opacity=”1″ background_hover_color_opacity=”1″ column_shadow=”none” column_border_radius=”none” width=”1/1″ tablet_text_alignment=”default” phone_text_alignment=”default” column_border_width=”none” column_border_style=”solid”][vc_column_text]\nZamawiam szkolenie →\n\n\n\n\n\n\n\n\n\nFormularz rejestracji: CYBERBEZPIECZEŃSTWO DLA PRACOWNIKÓW BIUROWYCH\nWyślij formularz rejestracji -->> dostaniesz potwierdzenie zapisu na szkolenie. Każde potwierdzenie wysyłamy ręcznie 🙂 \nStandardowo otrzymasz fakturę proforma.\nWysłanie formularza rejestracji zobowiązuje do zapłaty oraz uczestniczenia w szkoleniu.\nProcedura rezygnacji/odwołania jest opisana w Regulaminie \nCzęść pól jest wymagana \n\nAdres email (wymagane)\n\n      \n* wpisz adres e-mail uczestnika szkolenia\, jeśli chcesz zgłosić kilku uczestników\, napisz na konferencje@gigacon.org \n\nImię (wymagane)\n\n      \n\nNazwisko (wymagane)\n\n      \n\nTelefon (wymagane)\n\n      \nDane do faktury: \n\nNazwa firmy\n\nZgłaszając się jako osoba prywatna zostaw pole puste.\n      \n\nNIP firmy\n\nZgłaszając się jako osoba prywatna zostaw pole puste.\n      \n\nMiejscowość (wymagane)\n\n      \n\nKod pocztowy (wymagane)\n\n      \n\nUlica (wymagane)\n\n      \n--------------------- \n\nZamawiam CYBERBEZPIECZEŃSTWO DLA PRACOWNIKÓW BIUROWYCH (wymagane)\n\nModuł 1 - cena 399 PLN +23% VATModuł 1 i 2 - cena promocyjna: 1250 PLN + VATModuł 1 i 2 - cena regularna: 1499 PLN + VAT \n\nUwagi/pytania/dodatkowe informacje\n\n \n\nOświadczam\, że zapoznałem się z polityką prywatności i regulaminem\, i ją akceptuję.\n\nTak \nSzanujemy Państwa prywatność. Jeżeli z jakichkolwiek względów nie są Państwo w stanie zaakceptować warunków regulaminu udziału w szkoleniu\, a chcieliby Państwo w nim uczestniczyć prosimy o kontakt mailowy: konferecje@gigacon.org \n \nWszystkie rejestracje potwierdzamy ręcznie.\nJeśli masz pytania lub masz wątpliwość czy Twoje zgłoszenie zostało zarejestrowane\, napisz: konferencje@gigacon.org \n\n	\n		var iFrame_formularz = jQuery("#form-lightbox-formularz iframe").attr("src");\n		jQuery(document).ready(function() {jQuery(".fl_box-formularz").colorbox({\n				inline : true\,\n				href :"#form-lightbox-formularz"\, \n				transition : "1"\,speed : 350\,scrolling : true\,opacity : 0.85\,returnFocus : true\,fastIframe : true\,closeBtn : true\,escKey : true\,\n				onClosed : function(){ jQuery("#form-lightbox-formularz iframe").attr("src"\, iFrame_formularz); } \n			});\n	});\n	 \n[/vc_column_text][/vc_column][/vc_row][vc_row type=”in_container” full_screen_row_position=”middle” scene_position=”center” text_color=”dark” text_align=”left” overlay_strength=”0.3″ shape_divider_position=”bottom”][vc_column column_padding=”no-extra-padding” column_padding_position=”all” background_color_opacity=”1″ background_hover_color_opacity=”1″ column_shadow=”none” column_border_radius=”none” width=”1/1″ tablet_text_alignment=”default” phone_text_alignment=”default” column_border_width=”none” column_border_style=”solid”][vc_text_separator title=”Patroni Medialni” color=”custom” accent_color=”#2ac4ea”][vc_column_text]\n\n		\n			#gallery-2 {\n				margin: auto;\n			}\n			#gallery-2 .gallery-item {\n				float: left;\n				margin-top: 10px;\n				text-align: center;\n				width: 33%;\n			}\n			#gallery-2 img {\n				border: 2px solid #cfcfcf;\n			}\n			#gallery-2 .gallery-caption {\n				margin-left: 0;\n			}\n			/* see gallery_shortcode() in wp-includes/media.php */\n		\n		\n			\n				\n			\n			\n				\n			\n			\n				\n			\n			\n				\n			\n			\n				\n			\n			\n				\n			\n			\n				\n			\n			\n				\n			\n				\n				http://www.dlp-expert.pl/\n				\n			\n				\n			\n			\n				\n			\n			\n				\n			\n			\n				\n			\n			\n				\n			\n			\n				\n			\n			\n		\n\n[/vc_column_text][/vc_column][/vc_row]\n
URL:https://oldsite.gigacon.org/event/cyberbezpieczenstwowbiurze/
LOCATION:ONLINE\, Polska
ATTACH;FMTTYPE=image/png:https://oldsite.gigacon.org/wp-content/uploads/2018/02/gigacon-szkolenia.png
END:VEVENT
END:VCALENDAR